{"text_format":"3","workbook":"xlsx","n_sheets":2,"sheets":["前三季度","Sheet1"],"read":"whole","date_system":"1900"}

{"sheet":"前三季度","index":0,"n_rows":39,"n_cols":14,"rows_kept":39,"merged":[[0,0,0,13],[2,0,3,0],[2,1,2,2],[2,3,3,3],[2,4,2,6],[2,7,2,9],[2,10,2,11],[2,12,2,13],[38,0,38,13]]}
["2021年前三季度主要经济指标完成情况"]
["制表：重庆市綦江区统计局"]
["指标名称","2021年前三季度",null,"两年平均增速（%）","总量排位",null,null,"增速排位",null,null,"全市",null,"全国"]
[null,"总量","± %",null,"全市","考核组","渝西","全市","考核组","渝西","2021年总量","2021年增速（%）","2021年总量","2021年增速（%）"]
["一、全区生产总值 (亿元)",{"v":390.1378,"d":"390.14"},6.8,{"v":4.47468592917618,"d":"4.5"},20,18,10,38,21,12,19951.89,9.9,823131,9.8]
["    ＃ 第一产业",{"v":46.5441,"d":"46.54"},6.5,{"v":5.03999238385349,"d":"5.0"},11,8,8,26,13,12,1332.42,8.3,51430,7.4]
["       第二产业",{"v":178.6753,"d":"178.68"},7.7,{"v":5.42599299982902,"d":"5.4"},19,17,10,29,19,12,7888.34,9.7,320940,10.6]
["          工 业",{"v":136.4667,"d":"136.47"},10.5,{"v":6.58048601878301,"d":"6.6"},"-","-","-","-","-","-","-","-",267640,12]
["          建筑业",{"v":42.2086,"d":"42.21"},-0.5,{"v":2.16432841261181,"d":"2.2"},"-","-","-","-","-","-","-","-",54538,4.3]
["       第三产业",{"v":164.9184,"d":"164.92"},5.9,{"v":3.21598713377691,"d":"3.2"},21,18,10,37,21,13,10731.13,10.3,450761,9.5]
["二、固定资产投资 (亿元)",{"v":128.4211,"d":"128.42"},19.8,{"v":14.0864507829707,"d":"14.1"},"-","-","-",5,2,1,"-",8.4,397827,7.3]
["    ＃工业投资",{"v":35.8622,"d":"35.86"},30.5,{"v":32.7251461451282,"d":"32.7"},"-","-","-",14,6,3,"-",12.3,"-",12.2]
["      房地产开发投资",{"v":55.1575,"d":"55.16"},5.7,{"v":4.18767774614565,"d":"4.2"},"-","-","-",25,12,8,"-",0.2,112568,8.8]
["三、注册地建筑业总产值（亿元）",{"v":83.2214,"d":"83.22"},{"v":6.28490567724518,"d":"6.3"},{"v":8.3719616752211,"d":"8.4"},28,20,11,32,17,10,"-","-","-","-"]
["四、商品房销售面积（万平方米）",{"v":77.0529,"d":"77.05"},{"v":-7.42628321805606,"d":"-7.4"},{"v":-11.2982964598209,"d":"-11.3"},"-","-","-","-","-","-",{"v":4763.7,"d":"4763.70"},10.3,130332,11.3]
["五、社会消费品零售总额(亿元)",179.76,24.3,{"v":11.8794440458121,"d":"11.9"},"-","-","-","-","-","-",10302.06,23.7,318057,16.4]
["   批发业商品销售总额（亿元）",139.61,26.8,{"v":17.1132553340838,"d":"17.1"},"-","-","-","-","-","-","-","-","-","-"]
["   零售业商品销售总额",{"v":93.5851,"d":"93.59"},21.7,{"v":13.5520384136141,"d":"13.6"},"-","-","-","-","-","-","-","-","-","-"]
["   住宿业营业额（亿元）",{"v":11.6205,"d":"11.62"},24.8,{"v":14.7520553562004,"d":"14.8"},"-","-","-","-","-","-","-","-","-","-"]
["   餐饮业营业额（亿元）",{"v":31.4683,"d":"31.47"},29.2,{"v":15.3670946929486,"d":"15.4"},"-","-","-","-","-","-","-","-","-","-"]
["六、进出口总值（亿元）","-","-","-","-","-","-","-","-","-",{"v":5770.3,"d":"5770.30"},{"v":27,"d":"27.0"},283264,22.7]
["    # 出口","-","-","-","-","-","-","-","-","-",{"v":3656.2,"d":"3656.20"},27.7,155477,22.7]
["      进口","-","-","-","-","-","-","-","-","-",{"v":2114.1,"d":"2114.10"},25.7,127787,22.6]
["    实际利用外资（万美元）","-","-","-","-","-","-","-","-","-","-","-",8595.1,19.6]
["七、规上工业总产值 (亿元)",322.44,16.6,{"v":8.68109311191159,"d":"8.7"},"-","-","-","-","-","-","-","-","-","-"]
["   规上工业增加值增速（%）","-",12.2,{"v":7.50162789465097,"d":"7.5"},"-","-","-",27,19,12,"-",14.2,"-",11.8]
["八、一般公共预算收入(亿元)",{"v":14.6726,"d":"14.67"},{"v":3.37548878007539,"d":"3.4"},{"v":3.99058495708063,"d":"4.0"},27,21,12,28,15,9,{"v":1675.8,"d":"1676"},10.9,164020,16.3]
["      ＃税收收入(亿元)",{"v":7.6892,"d":"7.69"},{"v":-16.5233628626021,"d":"-16.5"},{"v":-13.8659672200526,"d":"-13.9"},27,21,12,39,22,13,{"v":1172.1,"d":"1172"},13.6,140702,18.4]
["   一般公共预算支出(亿元)",{"v":44.0993,"d":"44.10"},{"v":-17.0825765353129,"d":"-17.1"},{"v":-9.7201714111407,"d":"-9.7"},26,18,11,32,20,12,{"v":3343.5,"d":"3344"},{"v":2,"d":"2.0"},179293,2.3]
["九、全体居民人均可支配收入(元)",23840,9.4,{"v":7.99092554469567,"d":"8.0"},25,22,13,37,20,12,26133,{"v":11,"d":"11.0"},26265,10.4]
["    城镇常住居民人均可支配收入(元)",30608,9.1,{"v":6.8263076212971,"d":"6.8"},30,21,12,37,20,12,33962,10.1,35946,9.5]
["    农村常住居民人均可支配收入(元)",14556,10.4,{"v":8.88966893144638,"d":"8.9"},22,20,12,37,20,12,13700,11.7,13726,11.6]
["十、金融机构存贷款余额（亿元）",{"v":982.8734269193,"d":"982.87"},{"v":1.96975640160473,"d":"2.0"},{"v":6.34117727831476,"d":"6.3"},20,15,9,37,19,12,{"v":89489.9661363749,"d":"89490"},{"v":10.05,"d":"10.1"},418.64,{"v":10.0690133347041,"d":"10.1"}]
["    金融机构存款余额（亿元）",{"v":542.8641159145,"d":"542.86"},{"v":-0.03,"d":"-0.0"},{"v":6.3090236057128,"d":"6.3"},20,17,8,30,19,10,{"v":44032.2256148905,"d":"44032"},6.2,2291800,8.6]
["　　金融机构贷款余额（亿元）",{"v":440.0093110048,"d":"440.01"},{"v":4.55,"d":"4.6"},{"v":6.43304233178716,"d":"6.4"},20,18,9,38,22,13,{"v":45457.7405214844,"d":"45458"},{"v":14.06,"d":"14.1"},1894600,11.9]
["十一、供电局用电量（万千瓦时）",122304.45,{"v":3.88,"d":"3.9"},{"v":2.0692176907416,"d":"2.1"},"-","-","-","-","-","-","-","-","-","-"]
["    # 工业用电量",{"v":57891.4,"d":"57891.40"},{"v":-2.71,"d":"-2.7"},{"v":-3.56374592509309,"d":"-3.6"},"-","-","-","-","-","-","-","-","-","-"]
[]
["注：1、考核组指主城9区和渝西片区共22个区。"]

{"sheet":"Sheet1","index":1,"n_rows":25,"n_cols":3,"rows_kept":25,"merged":[[0,0,0,2],[24,0,25,2]]}
["2021年前三季度綦江区主要经济指标"]
["指      标","上半年","累计±%"]
["地区生产总值（亿元）",{"$f":"前三季度!B5","v":{"v":390.1378,"d":"390.14"}},{"$f":"前三季度!C5","v":6.8}]
["   # 第一产业增加值",{"$f":"前三季度!B6","v":{"v":46.5441,"d":"46.54"}},{"$f":"前三季度!C6","v":6.5}]
["     第二产业增加值",{"$f":"前三季度!B7","v":{"v":178.6753,"d":"178.68"}},{"$f":"前三季度!C7","v":7.7}]
["       # 工业增加值",{"$f":"前三季度!B8","v":{"v":136.4667,"d":"136.47"}},{"$f":"前三季度!C8","v":10.5}]
["          建筑业",{"$f":"前三季度!B9","v":{"v":42.2086,"d":"42.21"}},{"$f":"前三季度!C9","v":-0.5}]
["     第三产业增加值",{"$f":"前三季度!B10","v":{"v":164.9184,"d":"164.92"}},{"$f":"前三季度!C10","v":5.9}]
["三次产业占比（%）","-","11.9:45.8:42.3"]
["规模以上工业增加值","-",12.2]
["全社会固定资产投资额","-",19.8]
["   #工业投资","-",30.5]
["    房地产投资","-",5.7]
["注册地建筑业总产值（亿元）",{"$f":"前三季度!B14","v":{"v":83.2214,"d":"83.22"}},{"$f":"前三季度!C14","v":{"v":6.28490567724518,"d":"6.3"}}]
["房地产销售面积（万平方米）",{"$f":"前三季度!B15","v":{"v":77.0529,"d":"77.05"}},{"$f":"前三季度!C15","v":{"v":-7.42628321805606,"d":"-7.4"}}]
["社会消费品零售总额（亿元）",{"$f":"前三季度!B16","v":179.76},{"$f":"前三季度!C16","v":24.3}]
["地方一般公共预算收入（亿元）",{"$f":"前三季度!B27","v":{"v":14.6726,"d":"14.67"}},{"$f":"前三季度!C27","v":{"v":3.37548878007539,"d":"3.4"}}]
["   #税收收入",{"$f":"前三季度!B28","v":{"v":7.6892,"d":"7.69"}},{"$f":"前三季度!C28","v":{"v":-16.5233628626021,"d":"-16.5"}}]
["一般公共预算支出（亿元）",{"$f":"前三季度!B29","v":{"v":44.0993,"d":"44.10"}},{"$f":"前三季度!C29","v":{"v":-17.0825765353129,"d":"-17.1"}}]
["金融机构人民币各项存款余额（亿元）",{"$f":"前三季度!B34","v":{"v":542.8641159145,"d":"542.86"}},{"$f":"前三季度!C34","v":{"v":-0.03,"d":"-0.0"}}]
["金融机构人民币各项贷款余额（亿元）",{"$f":"前三季度!B35","v":{"v":440.0093110048,"d":"440.01"}},{"$f":"前三季度!C35","v":{"v":4.55,"d":"4.6"}}]
["全体居民人均可支配收入（元）",{"$f":"前三季度!B30","v":23840},{"$f":"前三季度!C30","v":9.4}]
["   #城镇常住居民人均可支配收入",{"$f":"前三季度!B31","v":30608},{"$f":"前三季度!C31","v":9.1}]
["    农村常住居民人均可支配收入",{"$f":"前三季度!B32","v":14556},{"$f":"前三季度!C32","v":10.4}]
["注：1.地区生产总值及各行业增加值增长速度已扣除价格因素的影响。\n    2.本资料中部分数据因四舍五入的原因，存在与分项合计不等的情况。"]